Package: GenVisR Version: 1.39.0 Command: E:\biocbuild\bbs-3.21-bioc\R\bin\R.exe CMD INSTALL GenVisR StartedAt: 2025-02-09 16:38:46 -0500 (Sun, 09 Feb 2025) EndedAt: 2025-02-09 16:40:48 -0500 (Sun, 09 Feb 2025) EllapsedTime: 122.6 seconds RetCode: 0 Status: OK