Package: GeneBreak Version: 1.37.0 Command: /Library/Frameworks/R.framework/Resources/bin/R CMD check --install=check:GeneBreak.install-out.txt --library=/Library/Frameworks/R.framework/Resources/library --no-vignettes --timings GeneBreak_1.37.0.tar.gz StartedAt: 2025-02-12 19:24:29 -0500 (Wed, 12 Feb 2025) EndedAt: 2025-02-12 19:25:31 -0500 (Wed, 12 Feb 2025) EllapsedTime: 61.9 seconds RetCode: 0 Status: OK CheckDir: GeneBreak.Rcheck Warnings: 0