Package: GeneBreak Version: 1.37.0 Command: /home/biocbuild/R/R/bin/R CMD build --keep-empty-dirs --no-resave-data GeneBreak StartedAt: 2025-01-28 23:03:27 -0000 (Tue, 28 Jan 2025) EndedAt: 2025-01-28 23:04:10 -0000 (Tue, 28 Jan 2025) EllapsedTime: 42.0 seconds RetCode: 0 Status: OK PackageFile: GeneBreak_1.37.0.tar.gz PackageFileSize: 4.266 MiB