Package: GeneBreak Version: 1.37.0 Command: rm -rf GeneBreak.buildbin-libdir && mkdir GeneBreak.buildbin-libdir && /Users/biocbuild/BBS/utils/build-universal.sh GeneBreak_1.37.0.tar.gz /Library/Frameworks/R.framework/Resources/bin/R GeneBreak.buildbin-libdir StartedAt: 2025-02-10 00:54:42 -0500 (Mon, 10 Feb 2025) EndedAt: 2025-02-10 00:55:08 -0500 (Mon, 10 Feb 2025) EllapsedTime: 26.6 seconds RetCode: 0 Status: OK PackageFile: GeneBreak_1.37.0.tgz PackageFileSize: 4.576 MiB