Package: GeneBreak Version: 1.37.0 Command: rm -rf GeneBreak.buildbin-libdir && mkdir GeneBreak.buildbin-libdir && E:\biocbuild\bbs-3.21-bioc\R\bin\R.exe CMD INSTALL --build --library=GeneBreak.buildbin-libdir GeneBreak_1.37.0.tar.gz StartedAt: 2025-02-10 07:47:56 -0500 (Mon, 10 Feb 2025) EndedAt: 2025-02-10 07:48:44 -0500 (Mon, 10 Feb 2025) EllapsedTime: 47.2 seconds RetCode: 0 Status: OK PackageFile: GeneBreak_1.37.0.zip PackageFileSize: 4.45 MiB