Package: GeneBreak Version: 1.37.0 Command: chmod a+r GeneBreak -R && E:\biocbuild\bbs-3.21-bioc\R\bin\R.exe CMD build --keep-empty-dirs --no-resave-data GeneBreak StartedAt: 2025-02-09 18:50:58 -0500 (Sun, 09 Feb 2025) EndedAt: 2025-02-09 18:51:47 -0500 (Sun, 09 Feb 2025) EllapsedTime: 49.1 seconds RetCode: 0 Status: OK PackageFile: GeneBreak_1.37.0.tar.gz PackageFileSize: 4.142 MiB