Package: GeneMeta Version: 1.79.0 Command: /Library/Frameworks/R.framework/Resources/bin/R CMD build --keep-empty-dirs --no-resave-data GeneMeta StartedAt: 2025-02-04 16:24:35 -0500 (Tue, 04 Feb 2025) EndedAt: 2025-02-04 16:24:50 -0500 (Tue, 04 Feb 2025) EllapsedTime: 15.2 seconds RetCode: 0 Status: OK PackageFile: GeneMeta_1.79.0.tar.gz PackageFileSize: 2.704 MiB