Package: GeneMeta Version: 1.79.0 Command: /Library/Frameworks/R.framework/Resources/bin/R CMD check --install=check:GeneMeta.install-out.txt --library=/Library/Frameworks/R.framework/Resources/library --no-vignettes --timings GeneMeta_1.79.0.tar.gz StartedAt: 2025-02-04 19:22:34 -0500 (Tue, 04 Feb 2025) EndedAt: 2025-02-04 19:23:04 -0500 (Tue, 04 Feb 2025) EllapsedTime: 30.4 seconds RetCode: 0 Status: OK CheckDir: GeneMeta.Rcheck Warnings: 0