Package: GeneMeta Version: 1.79.0 Command: rm -rf GeneMeta.buildbin-libdir && mkdir GeneMeta.buildbin-libdir && /Users/biocbuild/BBS/utils/build-universal.sh GeneMeta_1.79.0.tar.gz /Library/Frameworks/R.framework/Resources/bin/R GeneMeta.buildbin-libdir StartedAt: 2025-02-10 00:54:48 -0500 (Mon, 10 Feb 2025) EndedAt: 2025-02-10 00:55:14 -0500 (Mon, 10 Feb 2025) EllapsedTime: 26.6 seconds RetCode: 0 Status: OK PackageFile: GeneMeta_1.79.0.tgz PackageFileSize: 2.739 MiB