Package: GeneMeta Version: 1.79.0 Command: /home/biocbuild/bbs-3.21-bioc/R/bin/R CMD check --install=check:GeneMeta.install-out.txt --library=/home/biocbuild/bbs-3.21-bioc/R/site-library --timings GeneMeta_1.79.0.tar.gz StartedAt: 2025-02-04 22:32:22 -0500 (Tue, 04 Feb 2025) EndedAt: 2025-02-04 22:33:54 -0500 (Tue, 04 Feb 2025) EllapsedTime: 92.1 seconds RetCode: 0 Status: OK CheckDir: GeneMeta.Rcheck Warnings: 0