Package: GeneMeta Version: 1.79.0 Command: /home/biocbuild/bbs-3.21-bioc/R/bin/R CMD INSTALL GeneMeta StartedAt: 2025-02-04 15:26:36 -0500 (Tue, 04 Feb 2025) EndedAt: 2025-02-04 15:26:54 -0500 (Tue, 04 Feb 2025) EllapsedTime: 17.4 seconds RetCode: 0 Status: OK