Package: GeneMeta Version: 1.79.0 Command: rm -rf GeneMeta.buildbin-libdir && mkdir GeneMeta.buildbin-libdir && E:\biocbuild\bbs-3.21-bioc\R\bin\R.exe CMD INSTALL --build --library=GeneMeta.buildbin-libdir GeneMeta_1.79.0.tar.gz StartedAt: 2025-02-10 07:48:13 -0500 (Mon, 10 Feb 2025) EndedAt: 2025-02-10 07:48:37 -0500 (Mon, 10 Feb 2025) EllapsedTime: 24.4 seconds RetCode: 0 Status: OK PackageFile: GeneMeta_1.79.0.zip PackageFileSize: 2.649 MiB