Package: GeneMeta Version: 1.79.0 Command: chmod a+r GeneMeta -R && E:\biocbuild\bbs-3.21-bioc\R\bin\R.exe CMD build --keep-empty-dirs --no-resave-data GeneMeta StartedAt: 2025-02-04 18:54:14 -0500 (Tue, 04 Feb 2025) EndedAt: 2025-02-04 18:54:54 -0500 (Tue, 04 Feb 2025) EllapsedTime: 40.4 seconds RetCode: 0 Status: OK PackageFile: GeneMeta_1.79.0.tar.gz PackageFileSize: 2.611 MiB