Package: GeneMeta Version: 1.79.0 Command: E:\biocbuild\bbs-3.21-bioc\R\bin\R.exe CMD check --no-multiarch --install=check:GeneMeta.install-out.txt --library=E:\biocbuild\bbs-3.21-bioc\R\library --no-vignettes --timings GeneMeta_1.79.0.tar.gz StartedAt: 2025-02-10 01:21:51 -0500 (Mon, 10 Feb 2025) EndedAt: 2025-02-10 01:23:27 -0500 (Mon, 10 Feb 2025) EllapsedTime: 96.1 seconds RetCode: 0 Status: OK CheckDir: GeneMeta.Rcheck Warnings: 0