Package: GeneMeta Version: 1.79.0 Command: E:\biocbuild\bbs-3.21-bioc\R\bin\R.exe CMD INSTALL GeneMeta StartedAt: 2025-02-04 16:38:53 -0500 (Tue, 04 Feb 2025) EndedAt: 2025-02-04 16:39:16 -0500 (Tue, 04 Feb 2025) EllapsedTime: 22.8 seconds RetCode: 0 Status: OK