Package: GeneNetworkBuilder Version: 1.49.1 Command: rm -rf GeneNetworkBuilder.buildbin-libdir && mkdir GeneNetworkBuilder.buildbin-libdir && /Users/biocbuild/BBS/utils/build-universal.sh GeneNetworkBuilder_1.49.1.tar.gz /Library/Frameworks/R.framework/Resources/bin/R GeneNetworkBuilder.buildbin-libdir StartedAt: 2025-02-12 22:20:36 -0500 (Wed, 12 Feb 2025) EndedAt: 2025-02-12 22:20:46 -0500 (Wed, 12 Feb 2025) EllapsedTime: 9.2 seconds RetCode: 0 Status: OK PackageFile: GeneNetworkBuilder_1.49.1.tgz PackageFileSize: 7.274 MiB