Package: GeneNetworkBuilder Version: 1.49.1 Command: /home/biocbuild/R/R/bin/R CMD build --keep-empty-dirs --no-resave-data GeneNetworkBuilder StartedAt: 2025-01-28 23:04:13 -0000 (Tue, 28 Jan 2025) EndedAt: 2025-01-28 23:14:26 -0000 (Tue, 28 Jan 2025) EllapsedTime: 613.3 seconds RetCode: 0 Status: OK PackageFile: GeneNetworkBuilder_1.49.1.tar.gz PackageFileSize: 7.701 MiB