Package: GeneNetworkBuilder Version: 1.49.1 Command: /home/biocbuild/bbs-3.21-bioc/R/bin/R CMD check --install=check:GeneNetworkBuilder.install-out.txt --library=/home/biocbuild/bbs-3.21-bioc/R/site-library --timings GeneNetworkBuilder_1.49.1.tar.gz StartedAt: 2025-02-12 22:33:03 -0500 (Wed, 12 Feb 2025) EndedAt: 2025-02-12 22:43:38 -0500 (Wed, 12 Feb 2025) EllapsedTime: 634.8 seconds RetCode: 0 Status: OK CheckDir: GeneNetworkBuilder.Rcheck Warnings: 0