Package: GeneNetworkBuilder Version: 1.49.1 Command: /home/biocbuild/bbs-3.21-bioc/R/bin/R CMD INSTALL GeneNetworkBuilder StartedAt: 2025-02-09 15:14:51 -0500 (Sun, 09 Feb 2025) EndedAt: 2025-02-09 15:15:07 -0500 (Sun, 09 Feb 2025) EllapsedTime: 16.4 seconds RetCode: 0 Status: OK