Package: GeneNetworkBuilder Version: 1.49.1 Command: rm -rf GeneNetworkBuilder.buildbin-libdir && mkdir GeneNetworkBuilder.buildbin-libdir && E:\biocbuild\bbs-3.21-bioc\R\bin\R.exe CMD INSTALL --build --library=GeneNetworkBuilder.buildbin-libdir GeneNetworkBuilder_1.49.1.tar.gz StartedAt: 2025-02-10 07:48:15 -0500 (Mon, 10 Feb 2025) EndedAt: 2025-02-10 07:50:16 -0500 (Mon, 10 Feb 2025) EllapsedTime: 120.7 seconds RetCode: 0 Status: OK PackageFile: GeneNetworkBuilder_1.49.1.zip PackageFileSize: 7.474 MiB