Package: GeneNetworkBuilder Version: 1.49.1 Command: E:\biocbuild\bbs-3.21-bioc\R\bin\R.exe CMD INSTALL GeneNetworkBuilder StartedAt: 2025-02-09 15:56:29 -0500 (Sun, 09 Feb 2025) EndedAt: 2025-02-09 15:57:38 -0500 (Sun, 09 Feb 2025) EllapsedTime: 69.0 seconds RetCode: 0 Status: OK