Package: GeneOverlap Version: 1.43.0 Command: /Library/Frameworks/R.framework/Resources/bin/R CMD build --keep-empty-dirs --no-resave-data GeneOverlap StartedAt: 2025-02-09 16:24:10 -0500 (Sun, 09 Feb 2025) EndedAt: 2025-02-09 16:24:15 -0500 (Sun, 09 Feb 2025) EllapsedTime: 5.1 seconds RetCode: 0 Status: OK PackageFile: GeneOverlap_1.43.0.tar.gz PackageFileSize: 360.7 KiB