Package: GeneOverlap Version: 1.43.0 Command: /home/biocbuild/R/R/bin/R CMD build --keep-empty-dirs --no-resave-data GeneOverlap StartedAt: 2025-01-28 23:04:16 -0000 (Tue, 28 Jan 2025) EndedAt: 2025-01-28 23:04:26 -0000 (Tue, 28 Jan 2025) EllapsedTime: 10.0 seconds RetCode: 0 Status: OK PackageFile: GeneOverlap_1.43.0.tar.gz PackageFileSize: 339.1 KiB