Package: GeneOverlap Version: 1.43.0 Command: /Library/Frameworks/R.framework/Resources/bin/R CMD check --install=check:GeneOverlap.install-out.txt --library=/Library/Frameworks/R.framework/Resources/library --no-vignettes --timings GeneOverlap_1.43.0.tar.gz StartedAt: 2025-02-12 20:41:17 -0500 (Wed, 12 Feb 2025) EndedAt: 2025-02-12 20:41:54 -0500 (Wed, 12 Feb 2025) EllapsedTime: 37.0 seconds RetCode: 0 Status: OK CheckDir: GeneOverlap.Rcheck Warnings: 0