Package: GeneOverlap Version: 1.43.0 Command: /Library/Frameworks/R.framework/Resources/bin/R CMD INSTALL GeneOverlap StartedAt: 2025-02-09 15:05:21 -0500 (Sun, 09 Feb 2025) EndedAt: 2025-02-09 15:05:53 -0500 (Sun, 09 Feb 2025) EllapsedTime: 32.2 seconds RetCode: 0 Status: OK