Package: GeneOverlap Version: 1.43.0 Command: /home/biocbuild/bbs-3.21-bioc/R/bin/R CMD build --keep-empty-dirs --no-resave-data GeneOverlap StartedAt: 2025-02-09 17:20:53 -0500 (Sun, 09 Feb 2025) EndedAt: 2025-02-09 17:21:01 -0500 (Sun, 09 Feb 2025) EllapsedTime: 8.0 seconds RetCode: 0 Status: OK PackageFile: GeneOverlap_1.43.0.tar.gz PackageFileSize: 360.7 KiB