Package: GeneOverlap Version: 1.43.0 Command: /home/biocbuild/bbs-3.21-bioc/R/bin/R CMD INSTALL GeneOverlap StartedAt: 2025-02-12 15:05:27 -0500 (Wed, 12 Feb 2025) EndedAt: 2025-02-12 15:05:53 -0500 (Wed, 12 Feb 2025) EllapsedTime: 26.2 seconds RetCode: 0 Status: OK