Package: GeneOverlap Version: 1.43.0 Command: rm -rf GeneOverlap.buildbin-libdir && mkdir GeneOverlap.buildbin-libdir && E:\biocbuild\bbs-3.21-bioc\R\bin\R.exe CMD INSTALL --build --library=GeneOverlap.buildbin-libdir GeneOverlap_1.43.0.tar.gz StartedAt: 2025-02-10 07:48:18 -0500 (Mon, 10 Feb 2025) EndedAt: 2025-02-10 07:49:01 -0500 (Mon, 10 Feb 2025) EllapsedTime: 43.6 seconds RetCode: 0 Status: OK PackageFile: GeneOverlap_1.43.0.zip PackageFileSize: 541.6 KiB