Package: GeneOverlap Version: 1.43.0 Command: E:\biocbuild\bbs-3.21-bioc\R\bin\R.exe CMD INSTALL GeneOverlap StartedAt: 2025-02-09 15:21:48 -0500 (Sun, 09 Feb 2025) EndedAt: 2025-02-09 15:22:19 -0500 (Sun, 09 Feb 2025) EllapsedTime: 31.4 seconds RetCode: 0 Status: OK