Package: GeneSelectMMD Version: 2.51.0 Command: /home/biocbuild/R/R/bin/R CMD build --keep-empty-dirs --no-resave-data GeneSelectMMD StartedAt: 2025-01-28 23:05:14 -0000 (Tue, 28 Jan 2025) EndedAt: 2025-01-28 23:05:30 -0000 (Tue, 28 Jan 2025) EllapsedTime: 16.0 seconds RetCode: 0 Status: OK PackageFile: GeneSelectMMD_2.51.0.tar.gz PackageFileSize: 460.6 KiB