Package: GeneSelectMMD Version: 2.51.0 Command: rm -rf GeneSelectMMD.buildbin-libdir && mkdir GeneSelectMMD.buildbin-libdir && /Users/biocbuild/BBS/utils/build-universal.sh GeneSelectMMD_2.51.0.tar.gz /Library/Frameworks/R.framework/Resources/bin/R GeneSelectMMD.buildbin-libdir StartedAt: 2025-02-10 00:54:55 -0500 (Mon, 10 Feb 2025) EndedAt: 2025-02-10 00:55:13 -0500 (Mon, 10 Feb 2025) EllapsedTime: 18.4 seconds RetCode: 0 Status: OK PackageFile: GeneSelectMMD_2.51.0.tgz PackageFileSize: 552.4 KiB