Package: GeneSelectMMD Version: 2.51.0 Command: /Library/Frameworks/R.framework/Resources/bin/R CMD INSTALL GeneSelectMMD StartedAt: 2025-02-09 15:07:26 -0500 (Sun, 09 Feb 2025) EndedAt: 2025-02-09 15:08:03 -0500 (Sun, 09 Feb 2025) EllapsedTime: 36.9 seconds RetCode: 0 Status: OK