Package: GeneSelectMMD Version: 2.51.0 Command: /home/biocbuild/bbs-3.21-bioc/R/bin/R CMD check --install=check:GeneSelectMMD.install-out.txt --library=/home/biocbuild/bbs-3.21-bioc/R/site-library --timings GeneSelectMMD_2.51.0.tar.gz StartedAt: 2025-02-04 22:33:35 -0500 (Tue, 04 Feb 2025) EndedAt: 2025-02-04 22:34:11 -0500 (Tue, 04 Feb 2025) EllapsedTime: 36.0 seconds RetCode: 0 Status: WARNINGS CheckDir: GeneSelectMMD.Rcheck Warnings: 1