Package: GeneSelectMMD Version: 2.51.0 Command: /home/biocbuild/bbs-3.21-bioc/R/bin/R CMD INSTALL GeneSelectMMD StartedAt: 2025-02-04 15:10:54 -0500 (Tue, 04 Feb 2025) EndedAt: 2025-02-04 15:11:01 -0500 (Tue, 04 Feb 2025) EllapsedTime: 6.8 seconds RetCode: 0 Status: OK