Package: GeneSelectMMD Version: 2.51.0 Command: rm -rf GeneSelectMMD.buildbin-libdir && mkdir GeneSelectMMD.buildbin-libdir && E:\biocbuild\bbs-3.21-bioc\R\bin\R.exe CMD INSTALL --build --library=GeneSelectMMD.buildbin-libdir GeneSelectMMD_2.51.0.tar.gz StartedAt: 2025-02-05 08:00:01 -0500 (Wed, 05 Feb 2025) EndedAt: 2025-02-05 08:00:30 -0500 (Wed, 05 Feb 2025) EllapsedTime: 29.2 seconds RetCode: 0 Status: OK PackageFile: GeneSelectMMD_2.51.0.zip PackageFileSize: 578.2 KiB