Package: GeneSelectMMD Version: 2.51.0 Command: E:\biocbuild\bbs-3.21-bioc\R\bin\R.exe CMD check --no-multiarch --install=check:GeneSelectMMD.install-out.txt --library=E:\biocbuild\bbs-3.21-bioc\R\library --no-vignettes --timings GeneSelectMMD_2.51.0.tar.gz StartedAt: 2025-02-10 01:22:49 -0500 (Mon, 10 Feb 2025) EndedAt: 2025-02-10 01:23:46 -0500 (Mon, 10 Feb 2025) EllapsedTime: 56.4 seconds RetCode: 0 Status: OK CheckDir: GeneSelectMMD.Rcheck Warnings: 0