Package: GeneSelectMMD Version: 2.51.0 Command: E:\biocbuild\bbs-3.21-bioc\R\bin\R.exe CMD INSTALL GeneSelectMMD StartedAt: 2025-02-09 15:27:58 -0500 (Sun, 09 Feb 2025) EndedAt: 2025-02-09 15:28:37 -0500 (Sun, 09 Feb 2025) EllapsedTime: 38.7 seconds RetCode: 0 Status: OK