Package: GeneTonic Version: 3.1.2 Maintainer: Federico Marini MaintainerEmail: marinif at uni-mainz.de git_url: https://git.bioconductor.org/packages/GeneTonic git_branch: devel git_last_commit: f1af392 git_last_commit_date: 2025-01-09 16:20:19 -0500 (Thu, 09 Jan 2025)