Package: GeneTonic Version: 3.1.2 Command: rm -rf GeneTonic.buildbin-libdir && mkdir GeneTonic.buildbin-libdir && /Users/biocbuild/BBS/utils/build-universal.sh GeneTonic_3.1.2.tar.gz /Library/Frameworks/R.framework/Resources/bin/R GeneTonic.buildbin-libdir StartedAt: 2025-02-09 22:15:31 -0500 (Sun, 09 Feb 2025) EndedAt: 2025-02-09 22:15:54 -0500 (Sun, 09 Feb 2025) EllapsedTime: 23.4 seconds RetCode: 0 Status: OK PackageFile: GeneTonic_3.1.2.tgz PackageFileSize: 9.99 MiB