Package: GeneTonic Version: 3.1.2 Command: /Library/Frameworks/R.framework/Resources/bin/R CMD INSTALL GeneTonic StartedAt: 2025-02-09 15:23:59 -0500 (Sun, 09 Feb 2025) EndedAt: 2025-02-09 15:24:19 -0500 (Sun, 09 Feb 2025) EllapsedTime: 20.2 seconds RetCode: 0 Status: OK