Package: GeneTonic Version: 3.1.2 Command: /home/biocbuild/bbs-3.21-bioc/R/bin/R CMD INSTALL GeneTonic StartedAt: 2025-02-12 15:48:28 -0500 (Wed, 12 Feb 2025) EndedAt: 2025-02-12 15:49:22 -0500 (Wed, 12 Feb 2025) EllapsedTime: 53.5 seconds RetCode: 0 Status: OK