Package: GeneticsPed Version: 1.69.0 Command: /Library/Frameworks/R.framework/Resources/bin/R CMD build --keep-empty-dirs --no-resave-data GeneticsPed StartedAt: 2025-02-03 17:01:18 -0500 (Mon, 03 Feb 2025) EndedAt: 2025-02-03 17:01:22 -0500 (Mon, 03 Feb 2025) EllapsedTime: 4.1 seconds RetCode: 1 Status: ERROR PackageFile: None PackageFileSize: NA