Package: GeneticsPed Version: 1.69.0 Command: /home/biocbuild/R/R/bin/R CMD INSTALL GeneticsPed StartedAt: 2025-01-29 19:33:20 -0000 (Wed, 29 Jan 2025) EndedAt: 2025-01-29 19:33:41 -0000 (Wed, 29 Jan 2025) EllapsedTime: 21.4 seconds RetCode: 1 Status: ERROR