Package: GeneticsPed Version: 1.69.0 Command: /home/biocbuild/bbs-3.21-bioc/R/bin/R CMD build --keep-empty-dirs --no-resave-data GeneticsPed StartedAt: 2025-02-03 17:30:16 -0500 (Mon, 03 Feb 2025) EndedAt: 2025-02-03 17:30:27 -0500 (Mon, 03 Feb 2025) EllapsedTime: 11.0 seconds RetCode: 1 Status: ERROR PackageFile: None PackageFileSize: NA