Package: GeneticsPed Version: 1.69.0 Command: /home/biocbuild/bbs-3.21-bioc/R/bin/R CMD INSTALL GeneticsPed StartedAt: 2025-02-09 15:05:24 -0500 (Sun, 09 Feb 2025) EndedAt: 2025-02-09 15:05:39 -0500 (Sun, 09 Feb 2025) EllapsedTime: 14.8 seconds RetCode: 1 Status: ERROR