Package: GenomAutomorphism Version: 1.9.1 Command: /Library/Frameworks/R.framework/Resources/bin/R CMD build --keep-empty-dirs --no-resave-data GenomAutomorphism StartedAt: 2025-02-09 16:24:42 -0500 (Sun, 09 Feb 2025) EndedAt: 2025-02-09 16:25:18 -0500 (Sun, 09 Feb 2025) EllapsedTime: 36.4 seconds RetCode: 0 Status: OK PackageFile: GenomAutomorphism_1.9.1.tar.gz PackageFileSize: 1.368 MiB