Package: GenomAutomorphism Version: 1.9.1 Command: /Library/Frameworks/R.framework/Resources/bin/R CMD check --install=check:GenomAutomorphism.install-out.txt --library=/Library/Frameworks/R.framework/Resources/library --no-vignettes --timings GenomAutomorphism_1.9.1.tar.gz StartedAt: 2025-02-03 19:59:00 -0500 (Mon, 03 Feb 2025) EndedAt: 2025-02-03 20:01:16 -0500 (Mon, 03 Feb 2025) EllapsedTime: 136.6 seconds RetCode: 0 Status: OK CheckDir: GenomAutomorphism.Rcheck Warnings: 0