Package: GenomAutomorphism Version: 1.9.1 Command: /Library/Frameworks/R.framework/Resources/bin/R CMD INSTALL GenomAutomorphism StartedAt: 2025-02-09 15:29:17 -0500 (Sun, 09 Feb 2025) EndedAt: 2025-02-09 15:29:26 -0500 (Sun, 09 Feb 2025) EllapsedTime: 8.3 seconds RetCode: 0 Status: OK