Package: GenomAutomorphism Version: 1.9.1 Command: /home/biocbuild/R/R/bin/R CMD build --keep-empty-dirs --no-resave-data GenomAutomorphism StartedAt: 2025-01-28 23:05:58 -0000 (Tue, 28 Jan 2025) EndedAt: 2025-01-28 23:08:16 -0000 (Tue, 28 Jan 2025) EllapsedTime: 138.0 seconds RetCode: 0 Status: OK PackageFile: GenomAutomorphism_1.9.1.tar.gz PackageFileSize: 1.26 MiB