Package: GenomAutomorphism Version: 1.9.1 Command: /home/biocbuild/R/R/bin/R CMD check --install=check:GenomAutomorphism.install-out.txt --library=/home/biocbuild/R/R/site-library --no-vignettes --timings GenomAutomorphism_1.9.1.tar.gz StartedAt: 2025-01-28 10:53:50 -0000 (Tue, 28 Jan 2025) EndedAt: 2025-01-28 10:58:00 -0000 (Tue, 28 Jan 2025) EllapsedTime: 250.2 seconds RetCode: 0 Status: OK CheckDir: GenomAutomorphism.Rcheck Warnings: 0